BEGIN:VCALENDAR
VERSION:2.0
PRODID:-//pretix//pretix.eu//
BEGIN:VTIMEZONE
TZID:Europe/Berlin
BEGIN:STANDARD
DTSTART:20001029T040000
RRULE:FREQ=YEARLY;BYDAY=-1SU;BYMONTH=10
TZNAME:CET
TZOFFSETFROM:+0200
TZOFFSETTO:+0100
END:STANDARD
BEGIN:DAYLIGHT
DTSTART:20000326T030000
RRULE:FREQ=YEARLY;BYDAY=-1SU;BYMONTH=3
TZNAME:CEST
TZOFFSETFROM:+0100
TZOFFSETTO:+0200
END:DAYLIGHT
END:VTIMEZONE
BEGIN:VEVENT
UID:pretix-Neuaubinger-Volksbuehne-Wallfahrt-4854644@tickets.neuaubinger-vo
 lksbuehne.de
DTSTART;TZID=Europe/Berlin:20260321T193000
DTEND;TZID=Europe/Berlin:20260321T203000
DESCRIPTION:Tickets: https://tickets.neuaubinger-volksbuehne.de/Wallfahrt/4
 854644/\nEinlass: 21.03.2026 18:00\nVeranstalter: Neuaubinger Volksbühne 
 e.V.
DTSTAMP:20260419T171340Z
LOCATION:Limesstraße 63\, 81243 München
SUMMARY:Wallfahrt und Weihwasser
END:VEVENT
END:VCALENDAR
